BEGIN:VCALENDAR
VERSION:2.0
BEGIN:VEVENT
URL:https://suzukiownersclub.co.uk/diary-of-events-2/viewevent/317-london-centre-camping-weekend 
DTSTART:%2014%08%22GMT%00%Aug%nd
DTEND:%2014%08%25GMT%00%Aug%th
SUMMARY:London Centre Camping Weekend
DESCRIPTION:Come and join is for the 3rd London Centre Camping Weekend at Englands Rose in Postcombe. Have fun with Dibbles Disco, ride out and the legendary raffle with great prizes including the Wacker Prize!!
Look forward to seeing everyone there!! 
England's Rose
London Road
Postcombe
Oxfordshire
OX9 7DP
http://www.englandsrosepub.co.uk/
LOCATION:Postcombe
END:VEVENT
END:VCALENDAR