BEGIN:VCALENDAR
VERSION:2.0
BEGIN:VEVENT
URL:https://suzukiownersclub.co.uk/diary-of-events-2/viewevent/316-event-cancelled-yorkshire-centre-ride-out-to-holly-island-northumberland 
DTSTART:%2014%07%13GMT%10%Jul%th
DTEND:%2014%07%13GMT%15%Jul%th
SUMMARY:Event Cancelled. Yorkshire Centre ride out to Holly Island, Northumberland
DESCRIPTION:Run to Holly Island, Northumberland.  Meet at the Jet Petrol station, Stourton, Leeds for a 10 am start.  Contact Dave at: gv1400lxe@gmail.com
Due to unforseen circumstances this event has had to be canclled.
LOCATION:Yorkshire
END:VEVENT
END:VCALENDAR