BEGIN:VCALENDAR
VERSION:2.0
BEGIN:VEVENT
URL:https://suzukiownersclub.co.uk/diary-of-events-2/viewevent/315-yorkshire-centre-ride-out-to-whitley-bay 
DTSTART:%2014%09%14GMT%10%Sep%th
DTEND:%2014%09%14GMT%15%Sep%th
SUMMARY:Yorkshire Centre ride out to Whitley Bay
DESCRIPTION:A day run to Whitley Bay.  Meet at the Jet petrol station, Stourton, Leeds for a 10 am start.

Contact: Dave at: gv1400lxe@gmail.com
LOCATION:Yorkshire
END:VEVENT
END:VCALENDAR