BEGIN:VCALENDAR
VERSION:2.0
BEGIN:VEVENT
URL:https://suzukiownersclub.co.uk/diary-of-events-2/viewevent/314-yorkshire-centre-east-coast-ride-out 
DTSTART:%2014%08%10GMT%10%Aug%th
DTEND:%2014%08%10GMT%15%Aug%th
SUMMARY:Yorkshire Centre East Coast ride out
DESCRIPTION:East Coast run. Meet at Jet petrol station, Stourton, Leeds for 10 am start or meet at the café under the Humber Bridge at 12 noon. Contact Dave at: gv1400lxe@gmail.com
LOCATION:Yorkshire
END:VEVENT
END:VCALENDAR