BEGIN:VCALENDAR
VERSION:2.0
BEGIN:VEVENT
URL:https://suzukiownersclub.co.uk/diary-of-events-2/viewevent/313-yorkshire-centre-ride-out-to-hartlepool 
DTSTART:%2014%06%08GMT%10%Jun%th
DTEND:%2014%06%08GMT%15%Jun%th
SUMMARY:Yorkshire Centre ride out to Hartlepool
DESCRIPTION:A run to Hartlepool.  Meet at the Jet petrol station, Stourton, Leeds for a 10 am start.
LOCATION:Yorkshire
END:VEVENT
END:VCALENDAR