BEGIN:VCALENDAR
VERSION:2.0
BEGIN:VEVENT
URL:https://suzukiownersclub.co.uk/diary-of-events-2/viewevent/312-prescott-bike-festival 
DTSTART:%2014%04%06GMT%00%Apr%th
DTEND:%2014%04%06GMT%23%Apr%th
SUMMARY:Prescott Bike Festival
DESCRIPTION:http://www.prescottbikefestival.co.uk/
LOCATION:Gloiucester
END:VEVENT
END:VCALENDAR