BEGIN:VCALENDAR
VERSION:2.0
BEGIN:VEVENT
URL:https://suzukiownersclub.co.uk/diary-of-events-2/viewevent/311-prescott-bike-festival 
DTSTART:%2014%03%25GMT%00%Mar%th
DTEND:%2014%03%25GMT%23%Mar%th
SUMMARY:Prescott Bike Festival
DESCRIPTION:More trade stands than ever before – something for everyone
    Meet Steve Parrish, Motorsport Legend, BBC Commentator and World Class Joker
    A very special ‘Invitation Only Trials Competition’, run under the auspices of the Western Centre ACU
    Smiths Triumph Racing, together with Billy McConnell (British Supersport Championship, 3rd in 2013) and new signing, Graeme Gowland (5th place in British Supersport Championship) will be joining us.
    The Meet Nick Sanders and see his new Steampunk Cinema
    Carlos Checa’s MotoGP Ducati Desmosedici GP5 and Checa’s 2011 WSB winning Ducati 1198 F1, thanks to Dawn Treader Performance.
    David Jeffries' TT bike – the GSX-R1000; James Toseland's first WSS bike
    Dave Coates Stunt Show
    Return of the Passenger Experiences
    Try your skills on our new Climbing Wall
    The Angelic Bulldog, the British team building a 400mph streamliner motorbike to break the world outright motorcycle land speed record.
    UK Garrison, our favourites from Star Wars
    Josie & the Outlaw – with your chance to join in
    Have a Go with Kuberg Electric Bikes
    Rare Excelsior Manxmans from Dave Lee and Adrian Sellars
    Fun Fair and stuff for the kids
    More trade  stands than ever before – something for everyone
    A little 4 wheel action this year to spice things up
    And so much more……………… lots to see and do
The Festival will celebrate all things two and three wheeled and a key attraction is your opportunity to ‘Run the Hill’. Your chance to be the star of the Show. The Prescott Hill Climb track, owned by the Bugatti Owners Club, is one of the UK’s most prestigious Hill Climbs and rarely does the public get the chance to ‘Run the Hill’. Limited Run the Hill tickets are available!
LOCATION:Gloucester
END:VEVENT
END:VCALENDAR