BEGIN:VCALENDAR
VERSION:2.0
BEGIN:VEVENT
URL:https://suzukiownersclub.co.uk/diary-of-events-2/viewevent/308-staffs-ride-out-to-matlock-bath 
DTSTART:%2014%03%09GMT%10%Mar%th
DTEND:%2014%03%09GMT%15%Mar%th
SUMMARY:Staffs Ride Out to Matlock Bath
DESCRIPTION:
LOCATION:Staffordshire Centre
END:VEVENT
END:VCALENDAR