BEGIN:VCALENDAR
VERSION:2.0
BEGIN:VEVENT
URL:https://suzukiownersclub.co.uk/diary-of-events-2/viewevent/307-london-centre-ride-out-to-imperial-war-museum-duxford-cambs 
DTSTART:%2014%09%28GMT%10%Sep%th
DTEND:%2014%09%28GMT%15%Sep%th
SUMMARY:London Centre ride out to Imperial War Museum Duxford, Cambs.
DESCRIPTION:
LOCATION:London
END:VEVENT
END:VCALENDAR