BEGIN:VCALENDAR
VERSION:2.0
BEGIN:VEVENT
URL:https://suzukiownersclub.co.uk/diary-of-events-2/viewevent/306-staffordshire-centre-meeting-1-week-early-in-april 
DTSTART:%2014%04%13GMT%12%Apr%th
DTEND:%2014%04%13GMT%14%Apr%th
SUMMARY:Staffordshire Centre Meeting (1 week early in April)
DESCRIPTION:
LOCATION:The George Inn, Castle St, Eccleshall, Staffordshire  ST21 6DF 
END:VEVENT
END:VCALENDAR