BEGIN:VCALENDAR
VERSION:2.0
BEGIN:VEVENT
URL:https://suzukiownersclub.co.uk/diary-of-events-2/viewevent/290-staffordshire-centre-meeting 
DTSTART:%2014%12%21GMT%12%Dec%st
DTEND:%2014%12%21GMT%14%Dec%st
SUMMARY:Staffordshire Centre Meeting
DESCRIPTION:
LOCATION:The George Inn, Castle St, Eccleshall, Staffordshire  ST21 6DF 
END:VEVENT
END:VCALENDAR