BEGIN:VCALENDAR
VERSION:2.0
BEGIN:VEVENT
URL:https://suzukiownersclub.co.uk/diary-of-events-2/viewevent/289-staffordshire-centre-meeting 
DTSTART:%2014%11%16GMT%12%Nov%th
DTEND:%2014%11%16GMT%14%Nov%th
SUMMARY:Staffordshire Centre Meeting
DESCRIPTION:
LOCATION:The George Inn, Castle St, Eccleshall, Staffordshire  ST21 6DF 
END:VEVENT
END:VCALENDAR