BEGIN:VCALENDAR
VERSION:2.0
BEGIN:VEVENT
URL:https://suzukiownersclub.co.uk/diary-of-events-2/viewevent/288-staffordshire-centre-meeting-date-change-to-26th-oct 
DTSTART:%2014%10%19GMT%12%Oct%th
DTEND:%2014%10%19GMT%14%Oct%th
SUMMARY:Staffordshire Centre Meeting DATE CHANGE TO 26TH oct 
DESCRIPTION:
LOCATION:The George Inn, Castle St, Eccleshall, Staffordshire  ST21 6DF 
END:VEVENT
END:VCALENDAR