BEGIN:VCALENDAR
VERSION:2.0
BEGIN:VEVENT
URL:https://suzukiownersclub.co.uk/diary-of-events-2/viewevent/286-staffordshire-centre-meeting 
DTSTART:%2014%08%17GMT%12%Aug%th
DTEND:%2014%08%17GMT%14%Aug%th
SUMMARY:Staffordshire Centre Meeting
DESCRIPTION:
LOCATION:The George Inn, Castle St, Eccleshall, Staffordshire  ST21 6DF 
END:VEVENT
END:VCALENDAR