BEGIN:VCALENDAR
VERSION:2.0
BEGIN:VEVENT
URL:https://suzukiownersclub.co.uk/diary-of-events-2/viewevent/285-south-coast-monthly-meet-reading-toy-run 
DTSTART:%2014%12%07GMT%11%Dec%th
DTEND:%2014%12%07GMT%17%Dec%th
SUMMARY:South Coast Monthly Meet/Reading Toy Run
DESCRIPTION:http://readingtoyrun.org/  
As loomies is closing in October and we will be unsure of where we will be meeting we have edited this post and will use our usual Reading xmas toys run for the December catch up, and as December is a busy month for us all it may be the last one before Christmas. 
alanh, alanhb6@gmail.com
LOCATION:reading. meet at boy blues.
END:VEVENT
END:VCALENDAR