BEGIN:VCALENDAR
VERSION:2.0
BEGIN:VEVENT
URL:https://suzukiownersclub.co.uk/diary-of-events-2/viewevent/284-south-coast-monthly-meet-one-off-venue-change-to-alton-station-cafe 
DTSTART:%2014%11%02GMT%10%Nov%nd
DTEND:%2014%11%02GMT%12%Nov%nd
SUMMARY:South Coast Monthly Meet ONE OFF VENUE CHANGE  to Alton station cafe
DESCRIPTION:We have gone up the road to Alton station café from loomies for this one month only.
 http://www.stationcafealton.com/
any enquiries contact either
alanh, alanhb6@gmail.com
socsouthcoast@rocketmail.com
LOCATION:Alton railway station
END:VEVENT
END:VCALENDAR