BEGIN:VCALENDAR
VERSION:2.0
BEGIN:VEVENT
URL:https://suzukiownersclub.co.uk/diary-of-events-2/viewevent/28-north-east-centre-run-to-the-craven-collection 
DTSTART:%2013%04%01GMT%00%Apr%st
DTEND:%2013%04%01GMT%23%Apr%st
SUMMARY:North East Centre run to the Craven Collection
DESCRIPTION:This ride out starts from the Bowburn services Junction 61 A1 at 10am prompt, we will travel down the A167 to Northallerton and onto the museum to the east of York. It is a private collection of motorcycles that has very restricted opening hours.
Please note this is a Bank Holiday Monday ride out
Kevin Close   07949035419
LOCATION:North East
END:VEVENT
END:VCALENDAR