BEGIN:VCALENDAR
VERSION:2.0
BEGIN:VEVENT
URL:https://suzukiownersclub.co.uk/diary-of-events-2/viewevent/265-north-east-centre-monthly-meeting-heather-lad-cassop-dh6-4qd 
DTSTART:%2014%10%05GMT%19%Oct%th
DTEND:%2014%10%05GMT%21%Oct%th
SUMMARY:North East Centre monthly meeting: Heather Lad, Cassop DH6 4QD
DESCRIPTION:The monthly meeting of the North East Centre at the Heather Lad, Quarrington Hill Durham. Meeting starts 7-30pm, 
Kevin Close: 07949035419
LOCATION:North East
END:VEVENT
END:VCALENDAR