BEGIN:VCALENDAR
VERSION:2.0
BEGIN:VEVENT
URL:https://suzukiownersclub.co.uk/diary-of-events-2/viewevent/260-south-coast-camping-weekend 
DTSTART:%2014%06%06GMT%18%Jun%th
DTEND:%2014%06%08GMT%16%Jun%th
SUMMARY:South Coast Camping Weekend
DESCRIPTION:The South Coast Camping Weekend will be held at the Fox and Goose:
http://www.foxandgoosegreywell.co.uk/
Everyone welcome!
LOCATION:South Coast
END:VEVENT
END:VCALENDAR