BEGIN:VCALENDAR
VERSION:2.0
BEGIN:VEVENT
URL:https://suzukiownersclub.co.uk/diary-of-events-2/viewevent/259-london-massive-camping-weekend 
DTSTART:%2014%08%22GMT%16%Aug%nd
DTEND:%2014%08%25GMT%12%Aug%th
SUMMARY:London Massive Camping Weekend
DESCRIPTION:One of the big camping weekends of the club year.  August Bank Holiday Weekend. More details of ride outs to follow.  
Contact:  John Carr   07768 797125   geordiecarpenter@yahoo.co.uk
LOCATION:England's Rose, London Rd, Postcombe,OX9 7DP
END:VEVENT
END:VCALENDAR