BEGIN:VCALENDAR
VERSION:2.0
BEGIN:VEVENT
URL:https://suzukiownersclub.co.uk/diary-of-events-2/viewevent/258-somme-anniversary-run 
DTSTART:%2014%07%19GMT%00%Jul%th
DTEND:%2014%07%20GMT%23%Jul%th
SUMMARY:Somme Anniversary Run
DESCRIPTION:
LOCATION:Somme, Northern France
END:VEVENT
END:VCALENDAR