BEGIN:VCALENDAR
VERSION:2.0
BEGIN:VEVENT
URL:https://suzukiownersclub.co.uk/diary-of-events-2/viewevent/257-billing-biker-bash-billing-aquadrome-northmptonshire 
DTSTART:%2014%07%18GMT%18%Jul%th
DTEND:%2014%07%20GMT%18%Jul%th
SUMMARY:Billing Biker Bash @ Billing Aquadrome, Northmptonshire
DESCRIPTION:The Biker Bash returns to Billing Aquadrome.  The club stand will be there for the weekend.  There will be a club scrap-heap raft challenge to build a powered raft and race it around a set course on the lake.  The “raft” needs to be 125cc max Air-cooled, and MUST have the frame, front forks and tank of a motorbike.  Anyone up for this???  
Contact Alby White 07762 242309   alby.white@ntlworld.com
LOCATION:Billing Aquadrome, Northants.
END:VEVENT
END:VCALENDAR