BEGIN:VCALENDAR
VERSION:2.0
BEGIN:VEVENT
URL:https://suzukiownersclub.co.uk/diary-of-events-2/viewevent/256-staffs-ride-out-to-streetbike-cafe-halesowen 
DTSTART:%2014%07%06GMT%10%Jul%th
DTEND:%2014%07%06GMT%15%Jul%th
SUMMARY:Staffs Ride Out to Streetbike & Café, Halesowen
DESCRIPTION:
LOCATION:Staffordshire Centre
END:VEVENT
END:VCALENDAR