BEGIN:VCALENDAR
VERSION:2.0
BEGIN:VEVENT
URL:https://suzukiownersclub.co.uk/diary-of-events-2/viewevent/255-bmf-show-kelso 
DTSTART:%2014%07%04GMT%00%Jul%th
DTEND:%2014%07%06GMT%23%Jul%th
SUMMARY:BMF Show - Kelso
DESCRIPTION:There may be some weekend camping passes for anyone who wants to put their bike on the stand & help out for a few hours on the stand.  
Contact Alby White 07762 242309   alby.white@ntlworld.com
LOCATION:Kelso
END:VEVENT
END:VCALENDAR