BEGIN:VCALENDAR
VERSION:2.0
BEGIN:VEVENT
URL:https://suzukiownersclub.co.uk/diary-of-events-2/viewevent/253-staffs-ride-out-to-ponderosa-cafe-horseshoe-pass-llangollen 
DTSTART:%2014%06%22GMT%10%Jun%nd
DTEND:%2014%06%22GMT%16%Jun%nd
SUMMARY:Staffs Ride Out to Ponderosa Café, Horseshoe Pass, LLangollen
DESCRIPTION:
LOCATION:Staffordshire Centre
END:VEVENT
END:VCALENDAR