BEGIN:VCALENDAR
VERSION:2.0
BEGIN:VEVENT
URL:https://suzukiownersclub.co.uk/diary-of-events-2/viewevent/252-south-coast-ride-out-to-suzuki-sunday-at-the-ace-cafe 
DTSTART:%2014%06%22GMT%08%Jun%nd
DTEND:%2014%06%22GMT%15%Jun%nd
SUMMARY:South Coast ride out to Suzuki Sunday at the Ace Café
DESCRIPTION:Meet at Eastern Road Services, Portsmouth (off end of M27) at 8:45 to leave at 9:00.  Ride up to the Ace Café for lunch.  Free all day event
Laura Dyer   07792 733961   socsouthcoast@rocketmail.com
LOCATION:South Coast
END:VEVENT
END:VCALENDAR