BEGIN:VCALENDAR
VERSION:2.0
BEGIN:VEVENT
URL:https://suzukiownersclub.co.uk/diary-of-events-2/viewevent/251-suzuki-sunday-at-the-ace-cafe 
DTSTART:%2014%06%22GMT%09%Jun%nd
DTEND:%2014%06%22GMT%18%Jun%nd
SUMMARY:Suzuki Sunday at The Ace Café
DESCRIPTION:
LOCATION:Ace Cafe, North Circular, London
END:VEVENT
END:VCALENDAR