BEGIN:VCALENDAR
VERSION:2.0
BEGIN:VEVENT
URL:https://suzukiownersclub.co.uk/diary-of-events-2/viewevent/250-barry-sheene-festival-oliver-s-mount-scarborough 
DTSTART:%2014%06%21GMT%00%Jun%st
DTEND:%2014%06%22GMT%23%Jun%nd
SUMMARY:Barry Sheene Festival, Oliver’s Mount, Scarborough
DESCRIPTION:The club may have a few camping passes available for members willing to put their bike on the club stand and spend a few hours over the weekend helping out.  For more information contact Alby White (Shows Co-ordinator)  07762 242309   alby.white@ntlworld.com
LOCATION:Scarborough
END:VEVENT
END:VCALENDAR