BEGIN:VCALENDAR
VERSION:2.0
BEGIN:VEVENT
URL:https://suzukiownersclub.co.uk/diary-of-events-2/viewevent/249-london-centre-ride-out-to-pirbright-bends-birdworld-surrey 
DTSTART:%2014%05%25GMT%10%May%th
DTEND:%2014%05%25GMT%16%May%th
SUMMARY:London Centre ride out to Pirbright Bends & Birdworld, Surrey
DESCRIPTION:
LOCATION:London Centre
END:VEVENT
END:VCALENDAR