BEGIN:VCALENDAR
VERSION:2.0
BEGIN:VEVENT
URL:https://suzukiownersclub.co.uk/diary-of-events-2/viewevent/246-south-coast-ride-out-to-haynes-motorcycle-museum-yeovi 
DTSTART:%2014%05%18GMT%08%May%th
DTEND:%2014%05%18GMT%16%May%th
SUMMARY:South Coast ride out to Haynes Motorcycle Museum, Yeovi
DESCRIPTION:Meet at McDonalds, Hedge End 08:45 to leave at 09:00.  Those wanting to leave a little later can meet us there in the reasaurant around 12:30 – 13:00 for sign in.  £10.95 entry to museum (Free with BMCT card).  All day event
Laura Dyer   07792 733961   socsouthcoast@rocketmail.com
LOCATION:South Coast
END:VEVENT
END:VCALENDAR