BEGIN:VCALENDAR
VERSION:2.0
BEGIN:VEVENT
URL:https://suzukiownersclub.co.uk/diary-of-events-2/viewevent/241-south-coast-ride-out-to-300th-gurston-down-hill-climb-salisbury 
DTSTART:%2014%04%27GMT%10%Apr%th
DTEND:%2014%04%27GMT%16%Apr%th
SUMMARY:South Coast ride out to 300th Gurston Down Hill Climb, Salisbury
DESCRIPTION:Meet at McDonalds, Hedge End 10:00 to leave at 10:15 to ride to Sailsbury.  £10 per person race meet entry.  Racing starts 13:00.  Restaurant & burger vans on site but BYO if you want to.
Laura Dyer   07792 733961   socsouthcoast@rocketmail.com
LOCATION:South Coast
END:VEVENT
END:VCALENDAR