BEGIN:VCALENDAR
VERSION:2.0
BEGIN:VEVENT
URL:https://suzukiownersclub.co.uk/diary-of-events-2/viewevent/239-staffs-ride-out-to-national-mororcycle-museum-birmingham 
DTSTART:%2014%04%06GMT%10%Apr%th
DTEND:%2014%04%06GMT%15%Apr%th
SUMMARY:Staffs Ride Out to National Mororcycle Museum, Birmingham
DESCRIPTION:
LOCATION:Staffordshire Centre
END:VEVENT
END:VCALENDAR