BEGIN:VCALENDAR
VERSION:2.0
BEGIN:VEVENT
URL:https://suzukiownersclub.co.uk/diary-of-events-2/viewevent/238-staffs-ride-out-to-j-s-bike-shop-cafe-oakmere-cheshire 
DTSTART:%2014%03%23GMT%10%Mar%rd
DTEND:%2014%03%23GMT%15%Mar%rd
SUMMARY:Staffs Ride Out to J&S Bike Shop & Café, Oakmere, Cheshire
DESCRIPTION:
LOCATION:Staffordshire Centre
END:VEVENT
END:VCALENDAR