BEGIN:VCALENDAR
VERSION:2.0
BEGIN:VEVENT
URL:https://suzukiownersclub.co.uk/diary-of-events-2/viewevent/237-london-centre-ride-out-to-rykas-cafe-dorking-rh5-6by 
DTSTART:%2014%03%23GMT%10%Mar%rd
DTEND:%2014%03%23GMT%15%Mar%rd
SUMMARY:London Centre ride out to Rykas Café, Dorking RH5 6BY
DESCRIPTION:
LOCATION:London
END:VEVENT
END:VCALENDAR