BEGIN:VCALENDAR
VERSION:2.0
BEGIN:VEVENT
URL:https://suzukiownersclub.co.uk/diary-of-events-2/viewevent/229-london-centre-ride-out-to-dunstable-downs-chilterns 
DTSTART:%2014%02%23GMT%10%Feb%rd
DTEND:%2014%02%23GMT%15%Feb%rd
SUMMARY:London Centre ride out to Dunstable Downs, Chilterns
DESCRIPTION:
LOCATION:Dunstable Downs, Chilterns
END:VEVENT
END:VCALENDAR