BEGIN:VCALENDAR
VERSION:2.0
BEGIN:VEVENT
URL:https://suzukiownersclub.co.uk/diary-of-events-2/viewevent/220-agm 
DTSTART:%2014%07%27GMT%11%Jul%th
DTEND:%2014%07%27GMT%15%Jul%th
SUMMARY:AGM
DESCRIPTION:
LOCATION:Brownlow Arms, High Marnham, Notts
END:VEVENT
END:VCALENDAR