BEGIN:VCALENDAR
VERSION:2.0
BEGIN:VEVENT
URL:https://suzukiownersclub.co.uk/diary-of-events-2/viewevent/219-invader-rally 
DTSTART:%2014%07%25GMT%14%Jul%th
DTEND:%2014%07%27GMT%12%Jul%th
SUMMARY:Invader Rally
DESCRIPTION:
LOCATION:Brownlow Arms, High Marnham, Notts
END:VEVENT
END:VCALENDAR