BEGIN:VCALENDAR
VERSION:2.0
BEGIN:VEVENT
URL:https://suzukiownersclub.co.uk/diary-of-events-2/viewevent/215-staffordshire-centre-meeting 
DTSTART:%2014%05%18GMT%12%May%th
DTEND:%2014%05%18GMT%14%May%th
SUMMARY:Staffordshire Centre Meeting
DESCRIPTION:
LOCATION:The George Inn, Castle St, Eccleshall, Staffordshire  ST21 6DF 
END:VEVENT
END:VCALENDAR