BEGIN:VCALENDAR
VERSION:2.0
BEGIN:VEVENT
URL:https://suzukiownersclub.co.uk/diary-of-events-2/viewevent/210-ne-centre-camping-weekend-heather-lad-quarrington-hill 
DTSTART:%2014%05%02GMT%12%May%nd
DTEND:%2014%05%05GMT%16%May%th
SUMMARY:NE Centre Camping Weekend: Heather Lad, Quarrington Hill
DESCRIPTION:
LOCATION:Quarrington Hill, Cassop DH6 4QD
END:VEVENT
END:VCALENDAR