BEGIN:VCALENDAR
VERSION:2.0
BEGIN:VEVENT
URL:https://suzukiownersclub.co.uk/diary-of-events-2/viewevent/209-north-east-centre-pre-meeting-ride-out-last-one-for-2014 
DTSTART:%2014%10%05GMT%16%Oct%th
DTEND:%2014%10%05GMT%19%Oct%th
SUMMARY:North East Centre pre-meeting ride out (Last one for 2014)
DESCRIPTION:The Oct ride out followed by meeting of the North East Centre at the Heather Lad, Quarrington Hill Durham. 
Ride out somewhere local for fish & chips: Leave Heather Lad at 4pm
Meeting starts 7-30pm, 
Kevin Close: 07949035419
LOCATION:North East
END:VEVENT
END:VCALENDAR