BEGIN:VCALENDAR
VERSION:2.0
BEGIN:VEVENT
URL:https://suzukiownersclub.co.uk/diary-of-events-2/viewevent/201-north-east-centre-pre-meeting-ride-out-heather-lad-cassop-dh6-4qd 
DTSTART:%2014%06%01GMT%16%Jun%st
DTEND:%2014%06%01GMT%19%Jun%st
SUMMARY:North East Centre pre-meeting ride out: Heather Lad, Cassop DH6 4QD
DESCRIPTION:The June ride out followed by meeting of the North East Centre at the Heather Lad, Quarrington Hill Durham. 
Ride out somewhere local for fish & chips: Leave Heather Lad at 4pm
Meeting starts 7-30pm, 
Kevin Close: 07949035419
LOCATION:North East
END:VEVENT
END:VCALENDAR