BEGIN:VCALENDAR
VERSION:2.0
BEGIN:VEVENT
URL:https://suzukiownersclub.co.uk/diary-of-events-2/viewevent/199-north-east-centre-monthly-meeting-heather-lad-cassop-dh6-4qd 
DTSTART:%2014%05%11GMT%19%May%th
DTEND:%2014%05%11GMT%21%May%th
SUMMARY:North East Centre monthly meeting: Heather Lad, Cassop DH6 4QD
DESCRIPTION:The May ride out followed by meeting of the North East Centre at the Heather Lad, Quarrington Hill Durham. 
Ride out somewhere local for fish & chips: Leave Heather Lad at 4pm
Meeting starts 7-30pm, 
Kevin Close: 07949035419
LOCATION:North East
END:VEVENT
END:VCALENDAR