BEGIN:VCALENDAR
VERSION:2.0
BEGIN:VEVENT
URL:https://suzukiownersclub.co.uk/diary-of-events-2/viewevent/195-ne-centre-ride-out-to-whitby-last-ne-centre-ride-out-for-2014 
DTSTART:%2014%10%26GMT%09%Oct%th
DTEND:%2014%10%26GMT%16%Oct%th
SUMMARY:NE Centre Ride Out to Whitby (Last NE Centre ride out for 2014)
DESCRIPTION:
LOCATION:Bowburn Services DH6 5NP
END:VEVENT
END:VCALENDAR