BEGIN:VCALENDAR
VERSION:2.0
BEGIN:VEVENT
URL:https://suzukiownersclub.co.uk/diary-of-events-2/viewevent/194-ne-centre-ride-out-to-olivers-mount-gold-cup-races-note-early-start 
DTSTART:%2014%09%14GMT%08%Sep%th
DTEND:%2014%09%14GMT%16%Sep%th
SUMMARY:NE Centre Ride Out to Olivers Mount Gold Cup Races (Note: Early start)
DESCRIPTION:
LOCATION:Bowburn Services DH6 5NP
END:VEVENT
END:VCALENDAR