BEGIN:VCALENDAR
VERSION:2.0
BEGIN:VEVENT
URL:https://suzukiownersclub.co.uk/diary-of-events-2/viewevent/193-ne-centre-ride-out-to-bikers-cafe-keighley-north-yorks 
DTSTART:%2014%08%17GMT%09%Aug%th
DTEND:%2014%08%17GMT%16%Aug%th
SUMMARY:NE Centre Ride Out to Bikers Cafe, Keighley, North Yorks.
DESCRIPTION:
LOCATION:Bowburn Services DH6 5NP
END:VEVENT
END:VCALENDAR