BEGIN:VCALENDAR
VERSION:2.0
BEGIN:VEVENT
URL:https://suzukiownersclub.co.uk/diary-of-events-2/viewevent/192-ne-centre-ride-out-to-edinburgh-note-early-start-date-chage 
DTSTART:%2014%07%13GMT%08%Jul%th
DTEND:%2014%07%13GMT%18%Jul%th
SUMMARY:NE Centre Ride Out to Edinburgh (Note: Early start & date chage)
DESCRIPTION:This run is now taking place on Sunday 13th July due to Durham Bike Safe being held on the 20th.
LOCATION:Bowburn Services DH6 5NP
END:VEVENT
END:VCALENDAR