BEGIN:VCALENDAR
VERSION:2.0
BEGIN:VEVENT
URL:https://suzukiownersclub.co.uk/diary-of-events-2/viewevent/187-ne-centre-ride-out-to-kirkby-stephen-hawes-leyburn 
DTSTART:%2014%03%16GMT%09%Mar%th
DTEND:%2014%03%16GMT%16%Mar%th
SUMMARY:NE Centre Ride Out to Kirkby Stephen, Hawes & Leyburn
DESCRIPTION:
LOCATION:Bowburn Services DH6 5NP
END:VEVENT
END:VCALENDAR