BEGIN:VCALENDAR
VERSION:2.0
BEGIN:VEVENT
URL:https://suzukiownersclub.co.uk/diary-of-events-2/viewevent/185-kent-centre-ride-to-44th-sinterklaastreffen 
DTSTART:%2013%11%30GMT%08%Nov%th
DTEND:%2013%11%30GMT%21%Nov%th
SUMMARY:Kent Centre ride to 44th Sinterklaastreffen
DESCRIPTION:Contact Paul Devall: 07716446085 for more details
Booking on the 0830 My Ferry to Calais and back at 1945. The fare is currently £14.50 for a bike and two people.
LOCATION:Ostend, Belgium
END:VEVENT
END:VCALENDAR