BEGIN:VCALENDAR
VERSION:2.0
BEGIN:VEVENT
URL:https://suzukiownersclub.co.uk/diary-of-events-2/viewevent/171-cumbria-centre-brunch-the-filling-station-cafe-crosthwaite-road-keswick-ca12-5pr 
DTSTART:%2014%01%19GMT%12%Jan%th
DTEND:%2014%01%19GMT%14%Jan%th
SUMMARY:Cumbria Centre Brunch: The Filling Station Café, Crosthwaite Road, Keswick CA12 5PR
DESCRIPTION:More information:
Ronnie Crawford   01946815600/07990556417  or  
Danny Crawford 07837173880
LOCATION:Cumbria
END:VEVENT
END:VCALENDAR