BEGIN:VCALENDAR
VERSION:2.0
BEGIN:VEVENT
URL:https://suzukiownersclub.co.uk/diary-of-events-2/viewevent/163-bmf-show-east-of-england-showground-peterborough 
DTSTART:%2014%05%16GMT%00%May%th
DTEND:%2014%05%18GMT%23%May%th
SUMMARY:BMF Show: East of England Showground, Peterborough
DESCRIPTION:More details to follow
LOCATION:East of England Showground, Peterborough
END:VEVENT
END:VCALENDAR